{"text_format":"1","workbook":"xlsx","n_sheets":7,"sheets":["Reports","BOD","pH","Visual","Catch Basins","Images","User's Guide"],"not_rendered":{"charts":3,"images":13,"macros":1,"external_links":0,"defined_names":16,"comments":0,"pivot_tables":0},"unopened":[],"bounds":{"document_bytes":16777216,"sheet_cells":100000,"rows_first":2000,"rows_last":500,"rows_between":2000,"halvings":0,"cell_chars":16384,"cell_head_chars":4096},"cells_cut":0,"cells_raw":0,"read":"whole","date_system":"1900"}

{"sheet":"Reports","index":0,"n_rows":8,"n_cols":44,"rows_kept":8,"cut":false,"hidden":false,"merged":[]}
[null,null,null,null,null,null,null,null,null,null,null,null,null,null,null,null,null,null,null,null,null,null,null,null,null,null,null,null,null,null,null,null,null,null,null,null,null,null,"2016-06-23",5.55,"2016-06-23",9.69,"2016-06-23",4]
[null,null,null,null,null,null,null,null,null,null,null,null,null,null,null,null,null,null,null,null,null,null,null,null,null,null,null,null,null,null,null,null,null,null,null,null,null,null,"2012-11-29",4.5999999999999996,"2011-10-25",9.1999999999999993,"2012-08-14",2]
[null,null,null,null,null,null,null,null,null,null,null,null,null,null,null,null,null,null,null,null,null,null,null,null,null,null,null,null,null,null,null,null,null,null,null,null,null,null,"2012-08-14",2.4500000000000002,null,null,"2011-10-25",2]
[null,null,null,null,null,null,null,null,null,null,null,null,null,null,null,null,null,null,null,null,null,null,null,null,null,null,null,null,null,null,null,null,null,null,null,null,null,null,"2012-05-09",2.36,null,null,"2011-07-01",3]
[null,null,null,null,null,null,null,null,null,null,null,null,null,null,null,null,null,null,null,null,null,null,null,null,null,null,null,null,null,null,null,null,null,null,null,null,null,null,null,null,null,null,"2010-06-14",3]
[null,null,null,null,null,null,null,null,null,null,null,null,null,null,null,null,null,null,null,null,null,null,null,null,null,null,null,null,null,null,null,null,null,null,null,null,null,null,null,null,null,null,"2010-03-31",3]
[]
[null,null,null,null,null,null,null,4,null,null,2,null,null,6]

{"sheet":"BOD","index":1,"n_rows":69,"n_cols":15,"rows_kept":69,"cut":false,"hidden":false,"merged":[[2,1,2,2],[4,14,4,20],[6,14,6,20],[8,14,8,20],[10,14,10,20],[2,6,2,12],[2,14,2,20],[4,7,4,11],[6,7,6,11],[8,7,8,11],[10,7,10,11]]}
[]
[]
[null,"BOD Levels",null,null,"Color",null,"BOD Levels",null,null,null,null,null,null,null,"Water Quality"]
[]
[null,null,null,null,null,null,0,"≤ BOD Level <",null,null,null,null,3,null,"Very Good"]
[]
[null,null,null,null,null,null,3,"≤ BOD Level < ",null,null,null,null,6,null,"Fair"]
[]
[null,null,null,null,null,null,6,"≤ BOD Level <",null,null,null,null,9,null,"Poor"]
[]
[null,null,null,null,null,null,9,"≤ BOD Level ",null,null,null,null,null,null,"Very Poor"]
[]
[]
[]
[]
[]
[null,"ID Num.","Type",null,"2012-05-09",null,"2012-08-14",null,"2012-11-29",null,"2013-03-18",null,"2013-10-17",null,"2016-06-23"]
[]
[null,{"$f":"'Catch Basins'!B4&\"\"","v":"4008"},{"$f":"'Catch Basins'!C4&\"\"","v":"Catch Basin"},null,6.5,null,4.45,null,1.08,null,null,null,null,null,2.58]
[null,{"$f":"'Catch Basins'!B5&\"\"","v":""},{"$f":"'Catch Basins'!C5&\"\"","v":""}]
[null,{"$f":"'Catch Basins'!B6&\"\"","v":"4009"},{"$f":"'Catch Basins'!C6&\"\"","v":"Catch Basin"},null,2.36,null,2.4500000000000002,null,4.5999999999999996,null,null,null,null,null,5.55]
[null,{"$f":"'Catch Basins'!B7&\"\"","v":""},{"$f":"'Catch Basins'!C7&\"\"","v":""}]
[null,{"$f":"'Catch Basins'!B8&\"\"","v":"4010"},{"$f":"'Catch Basins'!C8&\"\"","v":"Catch Basin"},null,2.6,null,3.86,null,3.6,null,null,null,null,null,2.27]
[null,{"$f":"'Catch Basins'!B9&\"\"","v":""},{"$f":"'Catch Basins'!C9&\"\"","v":""}]
[null,{"$f":"'Catch Basins'!B10&\"\"","v":"4011"},{"$f":"'Catch Basins'!C10&\"\"","v":"Catch Basin"},null,0.15,null,1.96,null,1.1000000000000001,null,null,null,null,null,3.67]
[null,{"$f":"'Catch Basins'!B11&\"\"","v":""},{"$f":"'Catch Basins'!C11&\"\"","v":""}]
[null,{"$f":"'Catch Basins'!B12&\"\"","v":"4012"},{"$f":"'Catch Basins'!C12&\"\"","v":"Catch Basin"},null,1.9,null,1.1000000000000001,null,0.56000000000000005,null,null,null,null,null,3.5]
[null,{"$f":"'Catch Basins'!B13&\"\"","v":""},{"$f":"'Catch Basins'!C13&\"\"","v":""}]
[null,{"$f":"'Catch Basins'!B14&\"\"","v":"4013"},{"$f":"'Catch Basins'!C14&\"\"","v":"Catch Basin"}]
[null,{"$f":"'Catch Basins'!B15&\"\"","v":""},{"$f":"'Catch Basins'!C15&\"\"","v":""}]
[null,{"$f":"'Catch Basins'!B16&\"\"","v":"4014 A"},{"$f":"'Catch Basins'!C16&\"\"","v":"Oil/ Water Separator"}]
[null,{"$f":"'Catch Basins'!B17&\"\"","v":""},{"$f":"'Catch Basins'!C17&\"\"","v":""}]
[null,{"$f":"'Catch Basins'!B18&\"\"","v":"4014 B"},{"$f":"'Catch Basins'!C18&\"\"","v":"Oil/ Water Separator"}]
[null,{"$f":"'Catch Basins'!B19&\"\"","v":""},{"$f":"'Catch Basins'!C19&\"\"","v":""}]
[null,{"$f":"'Catch Basins'!B20&\"\"","v":"4015 A"},{"$f":"'Catch Basins'!C20&\"\"","v":"Oil/ Water Separator"},null,0.94,null,1.1100000000000001,null,2.0299999999999998,null,1.03,null,2.2200000000000002]
[null,{"$f":"'Catch Basins'!B21&\"\"","v":""},{"$f":"'Catch Basins'!C21&\"\"","v":""}]
[null,{"$f":"'Catch Basins'!B22&\"\"","v":"4015 B"},{"$f":"'Catch Basins'!C22&\"\"","v":"Oil/ Water Separator"},null,0.4,null,0.45,null,2.0299999999999998,null,1.03,null,2.2000000000000002,null,1.95]
[null,{"$f":"'Catch Basins'!B23&\"\"","v":""},{"$f":"'Catch Basins'!C23&\"\"","v":""}]
[null,{"$f":"'Catch Basins'!B24&\"\"","v":"4016"},{"$f":"'Catch Basins'!C24&\"\"","v":"Catch Basin"}]
[null,{"$f":"'Catch Basins'!B25&\"\"","v":""},{"$f":"'Catch Basins'!C25&\"\"","v":""}]
[null,{"$f":"'Catch Basins'!B26&\"\"","v":"4017"},{"$f":"'Catch Basins'!C26&\"\"","v":"Catch Basin"}]
[null,{"$f":"'Catch Basins'!B27&\"\"","v":""},{"$f":"'Catch Basins'!C27&\"\"","v":""}]
[null,{"$f":"'Catch Basins'!B28&\"\"","v":"4018"},{"$f":"'Catch Basins'!C28&\"\"","v":"Catch Basin"},null,null,null,null,null,null,null,null,null,null,null,0.35]
[null,{"$f":"'Catch Basins'!B29&\"\"","v":""},{"$f":"'Catch Basins'!C29&\"\"","v":""}]
[null,{"$f":"'Catch Basins'!B30&\"\"","v":"4019"},{"$f":"'Catch Basins'!C30&\"\"","v":"Catch Basin"},null,null,null,null,null,null,null,null,null,null,null,1.1200000000000001]
[null,{"$f":"'Catch Basins'!B31&\"\"","v":""},{"$f":"'Catch Basins'!C31&\"\"","v":""}]
[null,{"$f":"'Catch Basins'!B32&\"\"","v":"4020"},{"$f":"'Catch Basins'!C32&\"\"","v":"Catch Basin"},null,null,null,null,null,null,null,null,null,null,null,3.29]
[null,{"$f":"'Catch Basins'!B33&\"\"","v":""},{"$f":"'Catch Basins'!C33&\"\"","v":""}]
[null,{"$f":"'Catch Basins'!B34&\"\"","v":"4022"},{"$f":"'Catch Basins'!C34&\"\"","v":"Catch Basin"}]
[null,{"$f":"'Catch Basins'!B35&\"\"","v":""},{"$f":"'Catch Basins'!C35&\"\"","v":""}]
[null,{"$f":"'Catch Basins'!B36&\"\"","v":"4023"},{"$f":"'Catch Basins'!C36&\"\"","v":"Catch Basin"},null,0.54,null,3,null,1.1000000000000001]
[null,{"$f":"'Catch Basins'!B37&\"\"","v":""},{"$f":"'Catch Basins'!C37&\"\"","v":""}]
[null,{"$f":"'Catch Basins'!B38&\"\"","v":"4024 A"},{"$f":"'Catch Basins'!C38&\"\"","v":"Oil/ Water Separator"},null,2.72,null,1.7,null,1.73,null,1.31,null,1.73]
[null,{"$f":"'Catch Basins'!B39&\"\"","v":""},{"$f":"'Catch Basins'!C39&\"\"","v":""}]
[null,{"$f":"'Catch Basins'!B40&\"\"","v":"4024 B"},{"$f":"'Catch Basins'!C40&\"\"","v":"Oil/ Water Separator"},null,0.81,null,1.5,null,1.55,null,1.3,null,1.73,null,1.43]
[null,{"$f":"'Catch Basins'!B41&\"\"","v":""},{"$f":"'Catch Basins'!C41&\"\"","v":""}]
[null,{"$f":"'Catch Basins'!B42&\"\"","v":"4025"},{"$f":"'Catch Basins'!C42&\"\"","v":"Catch Basin"},null,5.9,null,3.52,null,4.53,null,null,null,null,null,3.55]
[null,{"$f":"'Catch Basins'!B43&\"\"","v":""},{"$f":"'Catch Basins'!C43&\"\"","v":""}]
[null,{"$f":"'Catch Basins'!B44&\"\"","v":"4026"},{"$f":"'Catch Basins'!C44&\"\"","v":"Catch Basin"}]
[null,{"$f":"'Catch Basins'!B45&\"\"","v":""},{"$f":"'Catch Basins'!C45&\"\"","v":""}]
[null,{"$f":"'Catch Basins'!B46&\"\"","v":"4027 A"},{"$f":"'Catch Basins'!C46&\"\"","v":"Oil/ Water Separator"},null,6.78,null,5.37,null,6.92]
[null,{"$f":"'Catch Basins'!B47&\"\"","v":""},{"$f":"'Catch Basins'!C47&\"\"","v":""}]
[null,{"$f":"'Catch Basins'!B48&\"\"","v":"4027 B"},{"$f":"'Catch Basins'!C48&\"\"","v":"Oil/ Water Separator"},null,6.73,null,4.7869999999999999,null,6.9]
[null,{"$f":"'Catch Basins'!B49&\"\"","v":""},{"$f":"'Catch Basins'!C49&\"\"","v":""}]
[null,{"$f":"'Catch Basins'!B50&\"\"","v":"4028"},{"$f":"'Catch Basins'!C50&\"\"","v":"Catch Basin"},null,null,null,null,null,null,null,null,null,null,null,4.7699999999999996]
[null,{"$f":"'Catch Basins'!B51&\"\"","v":""},{"$f":"'Catch Basins'!C51&\"\"","v":""}]
[null,{"$f":"'Catch Basins'!B52&\"\"","v":"4029 A"},{"$f":"'Catch Basins'!C52&\"\"","v":"Oil/ Water Separator"},null,1.7,null,4.45,null,4.05,null,null,null,null,null,1.4]
[null,{"$f":"'Catch Basins'!B53&\"\"","v":""},{"$f":"'Catch Basins'!C53&\"\"","v":""}]
[null,{"$f":"'Catch Basins'!B54&\"\"","v":"4029 B"},{"$f":"'Catch Basins'!C54&\"\"","v":"Oil/ Water Separator"},null,2.4,null,0.92,null,4.05]

{"sheet":"pH","index":2,"n_rows":641,"n_cols":15,"rows_kept":641,"cut":false,"hidden":false,"merged":[[8,14,8,20],[10,14,10,20],[12,14,12,20],[8,7,8,11],[10,7,10,11],[12,7,12,11],[6,14,6,20],[2,1,2,2],[2,6,2,12],[2,14,2,20],[4,14,4,20],[4,7,4,11],[6,7,6,11]]}
[]
[]
[null,"pH Levels",null,null,"Color",null,"Ph Levels",null,null,null,null,null,null,null,"Water pH"]
[]
[null,null,null,null,null,null,0,"≤ pH <",null,null,null,null,4,null,"Very Acidic"]
[]
[null,null,null,null,null,null,4,"≤ pH < ",null,null,null,null,6.5,null,"Slightly Acidic"]
[]
[null,null,null,null,null,null,6.5,"≤ pH <",null,null,null,null,7.5,null,"Neutral"]
[]
[null,null,null,null,null,null,7.5,"≤ pH <",null,null,null,null,10,null,"Slightly Basic"]
[]
[null,null,null,null,null,null,10,"≤ pH <",null,null,null,null,14,null,"Very Basic"]
[]
[]
[]
[null,"ID Num.","Type",null,"2011-10-25",null,"2016-06-23"]
[]
[null,{"$f":"BOD!B19&\"\"","v":"4008"},{"$f":"BOD!C19&\"\"","v":"Catch Basin"},null,8.6999999999999993,null,7.79]
[null,{"$f":"BOD!B20&\"\"","v":""},{"$f":"BOD!C20&\"\"","v":""}]
[null,{"$f":"BOD!B21&\"\"","v":"4009"},{"$f":"BOD!C21&\"\"","v":"Catch Basin"},null,9.1999999999999993,null,9.69]
[null,{"$f":"BOD!B22&\"\"","v":""},{"$f":"BOD!C22&\"\"","v":""}]
[null,{"$f":"BOD!B23&\"\"","v":"4010"},{"$f":"BOD!C23&\"\"","v":"Catch Basin"},null,9.3000000000000007,null,8.68]
[null,{"$f":"BOD!B24&\"\"","v":""},{"$f":"BOD!C24&\"\"","v":""}]
[null,{"$f":"BOD!B25&\"\"","v":"4011"},{"$f":"BOD!C25&\"\"","v":"Catch Basin"},null,9.1,null,8.06]
[null,{"$f":"BOD!B26&\"\"","v":""},{"$f":"BOD!C26&\"\"","v":""}]
[null,{"$f":"BOD!B27&\"\"","v":"4012"},{"$f":"BOD!C27&\"\"","v":"Catch Basin"},null,null,null,8.2200000000000006]
[null,{"$f":"BOD!B28&\"\"","v":""},{"$f":"BOD!C28&\"\"","v":""}]
[null,{"$f":"BOD!B29&\"\"","v":"4013"},{"$f":"BOD!C29&\"\"","v":"Catch Basin"}]
[null,{"$f":"BOD!B30&\"\"","v":""},{"$f":"BOD!C30&\"\"","v":""}]
[null,{"$f":"BOD!B31&\"\"","v":"4014 A"},{"$f":"BOD!C31&\"\"","v":"Oil/ Water Separator"}]
[null,{"$f":"BOD!B32&\"\"","v":""},{"$f":"BOD!C32&\"\"","v":""}]
[null,{"$f":"BOD!B33&\"\"","v":"4014 B"},{"$f":"BOD!C33&\"\"","v":"Oil/ Water Separator"}]
[null,{"$f":"BOD!B34&\"\"","v":""},{"$f":"BOD!C34&\"\"","v":""}]
[null,{"$f":"BOD!B35&\"\"","v":"4015 A"},{"$f":"BOD!C35&\"\"","v":"Oil/ Water Separator"},null,9.4]
[null,{"$f":"BOD!B36&\"\"","v":""},{"$f":"BOD!C36&\"\"","v":""}]
[null,{"$f":"BOD!B37&\"\"","v":"4015 B"},{"$f":"BOD!C37&\"\"","v":"Oil/ Water Separator"},null,9.4,null,7.88]
[null,{"$f":"BOD!B38&\"\"","v":""},{"$f":"BOD!C38&\"\"","v":""}]
[null,{"$f":"BOD!B39&\"\"","v":"4016"},{"$f":"BOD!C39&\"\"","v":"Catch Basin"}]
[null,{"$f":"BOD!B40&\"\"","v":""},{"$f":"BOD!C40&\"\"","v":""}]
[null,{"$f":"BOD!B41&\"\"","v":"4017"},{"$f":"BOD!C41&\"\"","v":"Catch Basin"}]
[null,{"$f":"BOD!B42&\"\"","v":""},{"$f":"BOD!C42&\"\"","v":""}]
[null,{"$f":"BOD!B43&\"\"","v":"4018"},{"$f":"BOD!C43&\"\"","v":"Catch Basin"},null,8.4,null,7.51]
[null,{"$f":"BOD!B44&\"\"","v":""},{"$f":"BOD!C44&\"\"","v":""}]
[null,{"$f":"BOD!B45&\"\"","v":"4019"},{"$f":"BOD!C45&\"\"","v":"Catch Basin"},null,8.9,null,7.86]
[null,{"$f":"BOD!B46&\"\"","v":""},{"$f":"BOD!C46&\"\"","v":""}]
[null,{"$f":"BOD!B47&\"\"","v":"4020"},{"$f":"BOD!C47&\"\"","v":"Catch Basin"},null,null,null,7.63]
[null,{"$f":"BOD!B48&\"\"","v":""},{"$f":"BOD!C48&\"\"","v":""}]
[null,{"$f":"BOD!B49&\"\"","v":"4022"},{"$f":"BOD!C49&\"\"","v":"Catch Basin"},null,9.3000000000000007]
[null,{"$f":"BOD!B50&\"\"","v":""},{"$f":"BOD!C50&\"\"","v":""}]
[null,{"$f":"BOD!B51&\"\"","v":"4023"},{"$f":"BOD!C51&\"\"","v":"Catch Basin"}]
[null,{"$f":"BOD!B52&\"\"","v":""},{"$f":"BOD!C52&\"\"","v":""}]
[null,{"$f":"BOD!B53&\"\"","v":"4024 A"},{"$f":"BOD!C53&\"\"","v":"Oil/ Water Separator"},null,9.1]
[null,{"$f":"BOD!B54&\"\"","v":""},{"$f":"BOD!C54&\"\"","v":""}]
[null,{"$f":"BOD!B55&\"\"","v":"4024 B"},{"$f":"BOD!C55&\"\"","v":"Oil/ Water Separator"},null,9.1,null,7.55]
[null,{"$f":"BOD!B56&\"\"","v":""},{"$f":"BOD!C56&\"\"","v":""}]
[null,{"$f":"BOD!B57&\"\"","v":"4025"},{"$f":"BOD!C57&\"\"","v":"Catch Basin"},null,8.9,null,8.02]
[null,{"$f":"BOD!B58&\"\"","v":""},{"$f":"BOD!C58&\"\"","v":""}]
[null,{"$f":"BOD!B59&\"\"","v":"4026"},{"$f":"BOD!C59&\"\"","v":"Catch Basin"},null,10.5]
[null,{"$f":"BOD!B60&\"\"","v":""},{"$f":"BOD!C60&\"\"","v":""}]
[null,{"$f":"BOD!B61&\"\"","v":"4027 A"},{"$f":"BOD!C61&\"\"","v":"Oil/ Water Separator"},null,10.3]
[null,{"$f":"BOD!B62&\"\"","v":""},{"$f":"BOD!C62&\"\"","v":""}]
[null,{"$f":"BOD!B63&\"\"","v":"4027 B"},{"$f":"BOD!C63&\"\"","v":"Oil/ Water Separator"},null,10.3]
[null,{"$f":"BOD!B64&\"\"","v":""},{"$f":"BOD!C64&\"\"","v":""}]
[null,{"$f":"BOD!B65&\"\"","v":"4028"},{"$f":"BOD!C65&\"\"","v":"Catch Basin"},null,null,null,8.11]
[null,{"$f":"BOD!B66&\"\"","v":""},{"$f":"BOD!C66&\"\"","v":""}]
[null,{"$f":"BOD!B67&\"\"","v":"4029 A"},{"$f":"BOD!C67&\"\"","v":"Oil/ Water Separator"},null,10.199999999999999,null,8.4]
[null,{"$f":"BOD!B68&\"\"","v":""},{"$f":"BOD!C68&\"\"","v":""}]
[null,{"$f":"BOD!B69&\"\"","v":"4029 B"},{"$f":"BOD!C69&\"\"","v":"Oil/ Water Separator"},null,10]
[null,{"$f":"BOD!B70&\"\"","v":""}]
[null,{"$f":"BOD!B71&\"\"","v":""}]
[null,{"$f":"BOD!B72&\"\"","v":""}]
[null,{"$f":"BOD!B73&\"\"","v":""}]
[null,{"$f":"BOD!B74&\"\"","v":""}]
[null,{"$f":"BOD!B75&\"\"","v":""}]
[null,{"$f":"BOD!B76&\"\"","v":""}]
[null,{"$f":"BOD!B77&\"\"","v":""}]
[null,{"$f":"BOD!B78&\"\"","v":""}]
[null,{"$f":"BOD!B79&\"\"","v":""}]
[null,{"$f":"BOD!B80&\"\"","v":""}]
[null,{"$f":"BOD!B81&\"\"","v":""}]
[null,{"$f":"BOD!B82&\"\"","v":""}]
[null,{"$f":"BOD!B83&\"\"","v":""}]
[null,{"$f":"BOD!B84&\"\"","v":""}]
[null,{"$f":"BOD!B85&\"\"","v":""}]
[null,{"$f":"BOD!B86&\"\"","v":""}]
[null,{"$f":"BOD!B87&\"\"","v":""}]
[null,{"$f":"BOD!B88&\"\"","v":""}]
[null,{"$f":"BOD!B89&\"\"","v":""}]
[null,{"$f":"BOD!B90&\"\"","v":""}]
[null,{"$f":"BOD!B91&\"\"","v":""}]
[null,{"$f":"BOD!B92&\"\"","v":""}]
[null,{"$f":"BOD!B93&\"\"","v":""}]
[null,{"$f":"BOD!B94&\"\"","v":""}]
[null,{"$f":"BOD!B95&\"\"","v":""}]
[null,{"$f":"BOD!B96&\"\"","v":""}]
[null,{"$f":"BOD!B97&\"\"","v":""}]
[null,{"$f":"BOD!B98&\"\"","v":""}]
[null,{"$f":"BOD!B99&\"\"","v":""}]
[null,{"$f":"BOD!B100&\"\"","v":""}]
[null,{"$f":"BOD!B101&\"\"","v":""}]
[null,{"$f":"BOD!B102&\"\"","v":""}]
[null,{"$f":"BOD!B103&\"\"","v":""}]
[null,{"$f":"BOD!B104&\"\"","v":""}]
[null,{"$f":"BOD!B105&\"\"","v":""}]
[null,{"$f":"BOD!B106&\"\"","v":""}]
[null,{"$f":"BOD!B107&\"\"","v":""}]
[null,{"$f":"BOD!B108&\"\"","v":""}]
[null,{"$f":"BOD!B109&\"\"","v":""}]
[null,{"$f":"BOD!B110&\"\"","v":""}]
[null,{"$f":"BOD!B111&\"\"","v":""}]
[null,{"$f":"BOD!B112&\"\"","v":""}]
[null,{"$f":"BOD!B113&\"\"","v":""}]
[null,{"$f":"BOD!B114&\"\"","v":""}]
[null,{"$f":"BOD!B115&\"\"","v":""}]
[null,{"$f":"BOD!B116&\"\"","v":""}]
[null,{"$f":"BOD!B117&\"\"","v":""}]
[null,{"$f":"BOD!B118&\"\"","v":""}]
[null,{"$f":"BOD!B119&\"\"","v":""}]
[null,{"$f":"BOD!B120&\"\"","v":""}]
[null,{"$f":"BOD!B121&\"\"","v":""}]
[null,{"$f":"BOD!B122&\"\"","v":""}]
[null,{"$f":"BOD!B123&\"\"","v":""}]
[null,{"$f":"BOD!B124&\"\"","v":""}]
[null,{"$f":"BOD!B125&\"\"","v":""}]
[null,{"$f":"BOD!B126&\"\"","v":""}]
[null,{"$f":"BOD!B127&\"\"","v":""}]
[null,{"$f":"BOD!B128&\"\"","v":""}]
[null,{"$f":"BOD!B129&\"\"","v":""}]
[null,{"$f":"BOD!B130&\"\"","v":""}]
[null,{"$f":"BOD!B131&\"\"","v":""}]
[null,{"$f":"BOD!B132&\"\"","v":""}]
[null,{"$f":"BOD!B133&\"\"","v":""}]
[null,{"$f":"BOD!B134&\"\"","v":""}]
[null,{"$f":"BOD!B135&\"\"","v":""}]
[null,{"$f":"BOD!B136&\"\"","v":""}]
[null,{"$f":"BOD!B137&\"\"","v":""}]
[null,{"$f":"BOD!B138&\"\"","v":""}]
[null,{"$f":"BOD!B139&\"\"","v":""}]
[null,{"$f":"BOD!B140&\"\"","v":""}]
[null,{"$f":"BOD!B141&\"\"","v":""}]
[null,{"$f":"BOD!B142&\"\"","v":""}]
[null,{"$f":"BOD!B143&\"\"","v":""}]
[null,{"$f":"BOD!B144&\"\"","v":""}]
[null,{"$f":"BOD!B145&\"\"","v":""}]
[null,{"$f":"BOD!B146&\"\"","v":""}]
[null,{"$f":"BOD!B147&\"\"","v":""}]
[null,{"$f":"BOD!B148&\"\"","v":""}]
[null,{"$f":"BOD!B149&\"\"","v":""}]
[null,{"$f":"BOD!B150&\"\"","v":""}]
[null,{"$f":"BOD!B151&\"\"","v":""}]
[null,{"$f":"BOD!B152&\"\"","v":""}]
[null,{"$f":"BOD!B153&\"\"","v":""}]
[null,{"$f":"BOD!B154&\"\"","v":""}]
[null,{"$f":"BOD!B155&\"\"","v":""}]
[null,{"$f":"BOD!B156&\"\"","v":""}]
[null,{"$f":"BOD!B157&\"\"","v":""}]
[null,{"$f":"BOD!B158&\"\"","v":""}]
[null,{"$f":"BOD!B159&\"\"","v":""}]
[null,{"$f":"BOD!B160&\"\"","v":""}]
[null,{"$f":"BOD!B161&\"\"","v":""}]
[null,{"$f":"BOD!B162&\"\"","v":""}]
[null,{"$f":"BOD!B163&\"\"","v":""}]
[null,{"$f":"BOD!B164&\"\"","v":""}]
[null,{"$f":"BOD!B165&\"\"","v":""}]
[null,{"$f":"BOD!B166&\"\"","v":""}]
[null,{"$f":"BOD!B167&\"\"","v":""}]
[null,{"$f":"BOD!B168&\"\"","v":""}]
[null,{"$f":"BOD!B169&\"\"","v":""}]
[null,{"$f":"BOD!B170&\"\"","v":""}]
[null,{"$f":"BOD!B171&\"\"","v":""}]
[null,{"$f":"BOD!B172&\"\"","v":""}]
[null,{"$f":"BOD!B173&\"\"","v":""}]
[null,{"$f":"BOD!B174&\"\"","v":""}]
[null,{"$f":"BOD!B175&\"\"","v":""}]
[null,{"$f":"BOD!B176&\"\"","v":""}]
[null,{"$f":"BOD!B177&\"\"","v":""}]
[null,{"$f":"BOD!B178&\"\"","v":""}]
[null,{"$f":"BOD!B179&\"\"","v":""}]
[null,{"$f":"BOD!B180&\"\"","v":""}]
[null,{"$f":"BOD!B181&\"\"","v":""}]
[null,{"$f":"BOD!B182&\"\"","v":""}]
[null,{"$f":"BOD!B183&\"\"","v":""}]
[null,{"$f":"BOD!B184&\"\"","v":""}]
[null,{"$f":"BOD!B185&\"\"","v":""}]
[null,{"$f":"BOD!B186&\"\"","v":""}]
[null,{"$f":"BOD!B187&\"\"","v":""}]
[null,{"$f":"BOD!B188&\"\"","v":""}]
[null,{"$f":"BOD!B189&\"\"","v":""}]
[null,{"$f":"BOD!B190&\"\"","v":""}]
[null,{"$f":"BOD!B191&\"\"","v":""}]
[null,{"$f":"BOD!B192&\"\"","v":""}]
[null,{"$f":"BOD!B193&\"\"","v":""}]
[null,{"$f":"BOD!B194&\"\"","v":""}]
[null,{"$f":"BOD!B195&\"\"","v":""}]
[null,{"$f":"BOD!B196&\"\"","v":""}]
[null,{"$f":"BOD!B197&\"\"","v":""}]
[null,{"$f":"BOD!B198&\"\"","v":""}]
[null,{"$f":"BOD!B199&\"\"","v":""}]
[null,{"$f":"BOD!B200&\"\"","v":""}]
[null,{"$f":"BOD!B201&\"\"","v":""}]
[null,{"$f":"BOD!B202&\"\"","v":""}]
[null,{"$f":"BOD!B203&\"\"","v":""}]
[null,{"$f":"BOD!B204&\"\"","v":""}]
[null,{"$f":"BOD!B205&\"\"","v":""}]
[null,{"$f":"BOD!B206&\"\"","v":""}]
[null,{"$f":"BOD!B207&\"\"","v":""}]
[null,{"$f":"BOD!B208&\"\"","v":""}]
[null,{"$f":"BOD!B209&\"\"","v":""}]
[null,{"$f":"BOD!B210&\"\"","v":""}]
[null,{"$f":"BOD!B211&\"\"","v":""}]
[null,{"$f":"BOD!B212&\"\"","v":""}]
[null,{"$f":"BOD!B213&\"\"","v":""}]
[null,{"$f":"BOD!B214&\"\"","v":""}]
[null,{"$f":"BOD!B215&\"\"","v":""}]
[null,{"$f":"BOD!B216&\"\"","v":""}]
[null,{"$f":"BOD!B217&\"\"","v":""}]
[null,{"$f":"BOD!B218&\"\"","v":""}]
[null,{"$f":"BOD!B219&\"\"","v":""}]
[null,{"$f":"BOD!B220&\"\"","v":""}]
[null,{"$f":"BOD!B221&\"\"","v":""}]
[null,{"$f":"BOD!B222&\"\"","v":""}]
[null,{"$f":"BOD!B223&\"\"","v":""}]
[null,{"$f":"BOD!B224&\"\"","v":""}]
[null,{"$f":"BOD!B225&\"\"","v":""}]
[null,{"$f":"BOD!B226&\"\"","v":""}]
[null,{"$f":"BOD!B227&\"\"","v":""}]
[null,{"$f":"BOD!B228&\"\"","v":""}]
[null,{"$f":"BOD!B229&\"\"","v":""}]
[null,{"$f":"BOD!B230&\"\"","v":""}]
[null,{"$f":"BOD!B231&\"\"","v":""}]
[null,{"$f":"BOD!B232&\"\"","v":""}]
[null,{"$f":"BOD!B233&\"\"","v":""}]
[null,{"$f":"BOD!B234&\"\"","v":""}]
[null,{"$f":"BOD!B235&\"\"","v":""}]
[null,{"$f":"BOD!B236&\"\"","v":""}]
[null,{"$f":"BOD!B237&\"\"","v":""}]
[null,{"$f":"BOD!B238&\"\"","v":""}]
[null,{"$f":"BOD!B239&\"\"","v":""}]
[null,{"$f":"BOD!B240&\"\"","v":""}]
[null,{"$f":"BOD!B241&\"\"","v":""}]
[null,{"$f":"BOD!B242&\"\"","v":""}]
[null,{"$f":"BOD!B243&\"\"","v":""}]
[null,{"$f":"BOD!B244&\"\"","v":""}]
[null,{"$f":"BOD!B245&\"\"","v":""}]
[null,{"$f":"BOD!B246&\"\"","v":""}]
[null,{"$f":"BOD!B247&\"\"","v":""}]
[null,{"$f":"BOD!B248&\"\"","v":""}]
[null,{"$f":"BOD!B249&\"\"","v":""}]
[null,{"$f":"BOD!B250&\"\"","v":""}]
[null,{"$f":"BOD!B251&\"\"","v":""}]
[null,{"$f":"BOD!B252&\"\"","v":""}]
[null,{"$f":"BOD!B253&\"\"","v":""}]
[null,{"$f":"BOD!B254&\"\"","v":""}]
[null,{"$f":"BOD!B255&\"\"","v":""}]
[null,{"$f":"BOD!B256&\"\"","v":""}]
[null,{"$f":"BOD!B257&\"\"","v":""}]
[null,{"$f":"BOD!B258&\"\"","v":""}]
[null,{"$f":"BOD!B259&\"\"","v":""}]
[null,{"$f":"BOD!B260&\"\"","v":""}]
[null,{"$f":"BOD!B261&\"\"","v":""}]
[null,{"$f":"BOD!B262&\"\"","v":""}]
[null,{"$f":"BOD!B263&\"\"","v":""}]
[null,{"$f":"BOD!B264&\"\"","v":""}]
[null,{"$f":"BOD!B265&\"\"","v":""}]
[null,{"$f":"BOD!B266&\"\"","v":""}]
[null,{"$f":"BOD!B267&\"\"","v":""}]
[null,{"$f":"BOD!B268&\"\"","v":""}]
[null,{"$f":"BOD!B269&\"\"","v":""}]
[null,{"$f":"BOD!B270&\"\"","v":""}]
[null,{"$f":"BOD!B271&\"\"","v":""}]
[null,{"$f":"BOD!B272&\"\"","v":""}]
[null,{"$f":"BOD!B273&\"\"","v":""}]
[null,{"$f":"BOD!B274&\"\"","v":""}]
[null,{"$f":"BOD!B275&\"\"","v":""}]
[null,{"$f":"BOD!B276&\"\"","v":""}]
[null,{"$f":"BOD!B277&\"\"","v":""}]
[null,{"$f":"BOD!B278&\"\"","v":""}]
[null,{"$f":"BOD!B279&\"\"","v":""}]
[null,{"$f":"BOD!B280&\"\"","v":""}]
[null,{"$f":"BOD!B281&\"\"","v":""}]
[null,{"$f":"BOD!B282&\"\"","v":""}]
[null,{"$f":"BOD!B283&\"\"","v":""}]
[null,{"$f":"BOD!B284&\"\"","v":""}]
[null,{"$f":"BOD!B285&\"\"","v":""}]
[null,{"$f":"BOD!B286&\"\"","v":""}]
[null,{"$f":"BOD!B287&\"\"","v":""}]
[null,{"$f":"BOD!B288&\"\"","v":""}]
[null,{"$f":"BOD!B289&\"\"","v":""}]
[null,{"$f":"BOD!B290&\"\"","v":""}]
[null,{"$f":"BOD!B291&\"\"","v":""}]
[null,{"$f":"BOD!B292&\"\"","v":""}]
[null,{"$f":"BOD!B293&\"\"","v":""}]
[null,{"$f":"BOD!B294&\"\"","v":""}]
[null,{"$f":"BOD!B295&\"\"","v":""}]
[null,{"$f":"BOD!B296&\"\"","v":""}]
[null,{"$f":"BOD!B297&\"\"","v":""}]
[null,{"$f":"BOD!B298&\"\"","v":""}]
[null,{"$f":"BOD!B299&\"\"","v":""}]
[null,{"$f":"BOD!B300&\"\"","v":""}]
[null,{"$f":"BOD!B301&\"\"","v":""}]
[null,{"$f":"BOD!B302&\"\"","v":""}]
[null,{"$f":"BOD!B303&\"\"","v":""}]
[null,{"$f":"BOD!B304&\"\"","v":""}]
[null,{"$f":"BOD!B305&\"\"","v":""}]
[null,{"$f":"BOD!B306&\"\"","v":""}]
[null,{"$f":"BOD!B307&\"\"","v":""}]
[null,{"$f":"BOD!B308&\"\"","v":""}]
[null,{"$f":"BOD!B309&\"\"","v":""}]
[null,{"$f":"BOD!B310&\"\"","v":""}]
[null,{"$f":"BOD!B311&\"\"","v":""}]
[null,{"$f":"BOD!B312&\"\"","v":""}]
[null,{"$f":"BOD!B313&\"\"","v":""}]
[null,{"$f":"BOD!B314&\"\"","v":""}]
[null,{"$f":"BOD!B315&\"\"","v":""}]
[null,{"$f":"BOD!B316&\"\"","v":""}]
[null,{"$f":"BOD!B317&\"\"","v":""}]
[null,{"$f":"BOD!B318&\"\"","v":""}]
[null,{"$f":"BOD!B319&\"\"","v":""}]
[null,{"$f":"BOD!B320&\"\"","v":""}]
[null,{"$f":"BOD!B321&\"\"","v":""}]
[null,{"$f":"BOD!B322&\"\"","v":""}]
[null,{"$f":"BOD!B323&\"\"","v":""}]
[null,{"$f":"BOD!B324&\"\"","v":""}]
[null,{"$f":"BOD!B325&\"\"","v":""}]
[null,{"$f":"BOD!B326&\"\"","v":""}]
[null,{"$f":"BOD!B327&\"\"","v":""}]
[null,{"$f":"BOD!B328&\"\"","v":""}]
[null,{"$f":"BOD!B329&\"\"","v":""}]
[null,{"$f":"BOD!B330&\"\"","v":""}]
[null,{"$f":"BOD!B331&\"\"","v":""}]
[null,{"$f":"BOD!B332&\"\"","v":""}]
[null,{"$f":"BOD!B333&\"\"","v":""}]
[null,{"$f":"BOD!B334&\"\"","v":""}]
[null,{"$f":"BOD!B335&\"\"","v":""}]
[null,{"$f":"BOD!B336&\"\"","v":""}]
[null,{"$f":"BOD!B337&\"\"","v":""}]
[null,{"$f":"BOD!B338&\"\"","v":""}]
[null,{"$f":"BOD!B339&\"\"","v":""}]
[null,{"$f":"BOD!B340&\"\"","v":""}]
[null,{"$f":"BOD!B341&\"\"","v":""}]
[null,{"$f":"BOD!B342&\"\"","v":""}]
[null,{"$f":"BOD!B343&\"\"","v":""}]
[null,{"$f":"BOD!B344&\"\"","v":""}]
[null,{"$f":"BOD!B345&\"\"","v":""}]
[null,{"$f":"BOD!B346&\"\"","v":""}]
[null,{"$f":"BOD!B347&\"\"","v":""}]
[null,{"$f":"BOD!B348&\"\"","v":""}]
[null,{"$f":"BOD!B349&\"\"","v":""}]
[null,{"$f":"BOD!B350&\"\"","v":""}]
[null,{"$f":"BOD!B351&\"\"","v":""}]
[null,{"$f":"BOD!B352&\"\"","v":""}]
[null,{"$f":"BOD!B353&\"\"","v":""}]
[null,{"$f":"BOD!B354&\"\"","v":""}]
[null,{"$f":"BOD!B355&\"\"","v":""}]
[null,{"$f":"BOD!B356&\"\"","v":""}]
[null,{"$f":"BOD!B357&\"\"","v":""}]
[null,{"$f":"BOD!B358&\"\"","v":""}]
[null,{"$f":"BOD!B359&\"\"","v":""}]
[null,{"$f":"BOD!B360&\"\"","v":""}]
[null,{"$f":"BOD!B361&\"\"","v":""}]
[null,{"$f":"BOD!B362&\"\"","v":""}]
[null,{"$f":"BOD!B363&\"\"","v":""}]
[null,{"$f":"BOD!B364&\"\"","v":""}]
[null,{"$f":"BOD!B365&\"\"","v":""}]
[null,{"$f":"BOD!B366&\"\"","v":""}]
[null,{"$f":"BOD!B367&\"\"","v":""}]
[null,{"$f":"BOD!B368&\"\"","v":""}]
[null,{"$f":"BOD!B369&\"\"","v":""}]
[null,{"$f":"BOD!B370&\"\"","v":""}]
[null,{"$f":"BOD!B371&\"\"","v":""}]
[null,{"$f":"BOD!B372&\"\"","v":""}]
[null,{"$f":"BOD!B373&\"\"","v":""}]
[null,{"$f":"BOD!B374&\"\"","v":""}]
[null,{"$f":"BOD!B375&\"\"","v":""}]
[null,{"$f":"BOD!B376&\"\"","v":""}]
[null,{"$f":"BOD!B377&\"\"","v":""}]
[null,{"$f":"BOD!B378&\"\"","v":""}]
[null,{"$f":"BOD!B379&\"\"","v":""}]
[null,{"$f":"BOD!B380&\"\"","v":""}]
[null,{"$f":"BOD!B381&\"\"","v":""}]
[null,{"$f":"BOD!B382&\"\"","v":""}]
[null,{"$f":"BOD!B383&\"\"","v":""}]
[null,{"$f":"BOD!B384&\"\"","v":""}]
[null,{"$f":"BOD!B385&\"\"","v":""}]
[null,{"$f":"BOD!B386&\"\"","v":""}]
[null,{"$f":"BOD!B387&\"\"","v":""}]
[null,{"$f":"BOD!B388&\"\"","v":""}]
[null,{"$f":"BOD!B389&\"\"","v":""}]
[null,{"$f":"BOD!B390&\"\"","v":""}]
[null,{"$f":"BOD!B391&\"\"","v":""}]
[null,{"$f":"BOD!B392&\"\"","v":""}]
[null,{"$f":"BOD!B393&\"\"","v":""}]
[null,{"$f":"BOD!B394&\"\"","v":""}]
[null,{"$f":"BOD!B395&\"\"","v":""}]
[null,{"$f":"BOD!B396&\"\"","v":""}]
[null,{"$f":"BOD!B397&\"\"","v":""}]
[null,{"$f":"BOD!B398&\"\"","v":""}]
[null,{"$f":"BOD!B399&\"\"","v":""}]
[null,{"$f":"BOD!B400&\"\"","v":""}]
[null,{"$f":"BOD!B401&\"\"","v":""}]
[null,{"$f":"BOD!B402&\"\"","v":""}]
[null,{"$f":"BOD!B403&\"\"","v":""}]
[null,{"$f":"BOD!B404&\"\"","v":""}]
[null,{"$f":"BOD!B405&\"\"","v":""}]
[null,{"$f":"BOD!B406&\"\"","v":""}]
[null,{"$f":"BOD!B407&\"\"","v":""}]
[null,{"$f":"BOD!B408&\"\"","v":""}]
[null,{"$f":"BOD!B409&\"\"","v":""}]
[null,{"$f":"BOD!B410&\"\"","v":""}]
[null,{"$f":"BOD!B411&\"\"","v":""}]
[null,{"$f":"BOD!B412&\"\"","v":""}]
[null,{"$f":"BOD!B413&\"\"","v":""}]
[null,{"$f":"BOD!B414&\"\"","v":""}]
[null,{"$f":"BOD!B415&\"\"","v":""}]
[null,{"$f":"BOD!B416&\"\"","v":""}]
[null,{"$f":"BOD!B417&\"\"","v":""}]
[null,{"$f":"BOD!B418&\"\"","v":""}]
[null,{"$f":"BOD!B419&\"\"","v":""}]
[null,{"$f":"BOD!B420&\"\"","v":""}]
[null,{"$f":"BOD!B421&\"\"","v":""}]
[null,{"$f":"BOD!B422&\"\"","v":""}]
[null,{"$f":"BOD!B423&\"\"","v":""}]
[null,{"$f":"BOD!B424&\"\"","v":""}]
[null,{"$f":"BOD!B425&\"\"","v":""}]
[null,{"$f":"BOD!B426&\"\"","v":""}]
[null,{"$f":"BOD!B427&\"\"","v":""}]
[null,{"$f":"BOD!B428&\"\"","v":""}]
[null,{"$f":"BOD!B429&\"\"","v":""}]
[null,{"$f":"BOD!B430&\"\"","v":""}]
[null,{"$f":"BOD!B431&\"\"","v":""}]
[null,{"$f":"BOD!B432&\"\"","v":""}]
[null,{"$f":"BOD!B433&\"\"","v":""}]
[null,{"$f":"BOD!B434&\"\"","v":""}]
[null,{"$f":"BOD!B435&\"\"","v":""}]
[null,{"$f":"BOD!B436&\"\"","v":""}]
[null,{"$f":"BOD!B437&\"\"","v":""}]
[null,{"$f":"BOD!B438&\"\"","v":""}]
[null,{"$f":"BOD!B439&\"\"","v":""}]
[null,{"$f":"BOD!B440&\"\"","v":""}]
[null,{"$f":"BOD!B441&\"\"","v":""}]
[null,{"$f":"BOD!B442&\"\"","v":""}]
[null,{"$f":"BOD!B443&\"\"","v":""}]
[null,{"$f":"BOD!B444&\"\"","v":""}]
[null,{"$f":"BOD!B445&\"\"","v":""}]
[null,{"$f":"BOD!B446&\"\"","v":""}]
[null,{"$f":"BOD!B447&\"\"","v":""}]
[null,{"$f":"BOD!B448&\"\"","v":""}]
[null,{"$f":"BOD!B449&\"\"","v":""}]
[null,{"$f":"BOD!B450&\"\"","v":""}]
[null,{"$f":"BOD!B451&\"\"","v":""}]
[null,{"$f":"BOD!B452&\"\"","v":""}]
[null,{"$f":"BOD!B453&\"\"","v":""}]
[null,{"$f":"BOD!B454&\"\"","v":""}]
[null,{"$f":"BOD!B455&\"\"","v":""}]
[null,{"$f":"BOD!B456&\"\"","v":""}]
[null,{"$f":"BOD!B457&\"\"","v":""}]
[null,{"$f":"BOD!B458&\"\"","v":""}]
[null,{"$f":"BOD!B459&\"\"","v":""}]
[null,{"$f":"BOD!B460&\"\"","v":""}]
[null,{"$f":"BOD!B461&\"\"","v":""}]
[null,{"$f":"BOD!B462&\"\"","v":""}]
[null,{"$f":"BOD!B463&\"\"","v":""}]
[null,{"$f":"BOD!B464&\"\"","v":""}]
[null,{"$f":"BOD!B465&\"\"","v":""}]
[null,{"$f":"BOD!B466&\"\"","v":""}]
[null,{"$f":"BOD!B467&\"\"","v":""}]
[null,{"$f":"BOD!B468&\"\"","v":""}]
[null,{"$f":"BOD!B469&\"\"","v":""}]
[null,{"$f":"BOD!B470&\"\"","v":""}]
[null,{"$f":"BOD!B471&\"\"","v":""}]
[null,{"$f":"BOD!B472&\"\"","v":""}]
[null,{"$f":"BOD!B473&\"\"","v":""}]
[null,{"$f":"BOD!B474&\"\"","v":""}]
[null,{"$f":"BOD!B475&\"\"","v":""}]
[null,{"$f":"BOD!B476&\"\"","v":""}]
[null,{"$f":"BOD!B477&\"\"","v":""}]
[null,{"$f":"BOD!B478&\"\"","v":""}]
[null,{"$f":"BOD!B479&\"\"","v":""}]
[null,{"$f":"BOD!B480&\"\"","v":""}]
[null,{"$f":"BOD!B481&\"\"","v":""}]
[null,{"$f":"BOD!B482&\"\"","v":""}]
[null,{"$f":"BOD!B483&\"\"","v":""}]
[null,{"$f":"BOD!B484&\"\"","v":""}]
[null,{"$f":"BOD!B485&\"\"","v":""}]
[null,{"$f":"BOD!B486&\"\"","v":""}]
[null,{"$f":"BOD!B487&\"\"","v":""}]
[null,{"$f":"BOD!B488&\"\"","v":""}]
[null,{"$f":"BOD!B489&\"\"","v":""}]
[null,{"$f":"BOD!B490&\"\"","v":""}]
[null,{"$f":"BOD!B491&\"\"","v":""}]
[null,{"$f":"BOD!B492&\"\"","v":""}]
[null,{"$f":"BOD!B493&\"\"","v":""}]
[null,{"$f":"BOD!B494&\"\"","v":""}]
[null,{"$f":"BOD!B495&\"\"","v":""}]
[null,{"$f":"BOD!B496&\"\"","v":""}]
[null,{"$f":"BOD!B497&\"\"","v":""}]
[null,{"$f":"BOD!B498&\"\"","v":""}]
[null,{"$f":"BOD!B499&\"\"","v":""}]
[null,{"$f":"BOD!B500&\"\"","v":""}]
[null,{"$f":"BOD!B501&\"\"","v":""}]
[null,{"$f":"BOD!B502&\"\"","v":""}]
[null,{"$f":"BOD!B503&\"\"","v":""}]
[null,{"$f":"BOD!B504&\"\"","v":""}]
[null,{"$f":"BOD!B505&\"\"","v":""}]
[null,{"$f":"BOD!B506&\"\"","v":""}]
[null,{"$f":"BOD!B507&\"\"","v":""}]
[null,{"$f":"BOD!B508&\"\"","v":""}]
[null,{"$f":"BOD!B509&\"\"","v":""}]
[null,{"$f":"BOD!B510&\"\"","v":""}]
[null,{"$f":"BOD!B511&\"\"","v":""}]
[null,{"$f":"BOD!B512&\"\"","v":""}]
[null,{"$f":"BOD!B513&\"\"","v":""}]
[null,{"$f":"BOD!B514&\"\"","v":""}]
[null,{"$f":"BOD!B515&\"\"","v":""}]
[null,{"$f":"BOD!B516&\"\"","v":""}]
[null,{"$f":"BOD!B517&\"\"","v":""}]
[null,{"$f":"BOD!B518&\"\"","v":""}]
[null,{"$f":"BOD!B519&\"\"","v":""}]
[null,{"$f":"BOD!B520&\"\"","v":""}]
[null,{"$f":"BOD!B521&\"\"","v":""}]
[null,{"$f":"BOD!B522&\"\"","v":""}]
[null,{"$f":"BOD!B523&\"\"","v":""}]
[null,{"$f":"BOD!B524&\"\"","v":""}]
[null,{"$f":"BOD!B525&\"\"","v":""}]
[null,{"$f":"BOD!B526&\"\"","v":""}]
[null,{"$f":"BOD!B527&\"\"","v":""}]
[null,{"$f":"BOD!B528&\"\"","v":""}]
[null,{"$f":"BOD!B529&\"\"","v":""}]
[null,{"$f":"BOD!B530&\"\"","v":""}]
[null,{"$f":"BOD!B531&\"\"","v":""}]
[null,{"$f":"BOD!B532&\"\"","v":""}]
[null,{"$f":"BOD!B533&\"\"","v":""}]
[null,{"$f":"BOD!B534&\"\"","v":""}]
[null,{"$f":"BOD!B535&\"\"","v":""}]
[null,{"$f":"BOD!B536&\"\"","v":""}]
[null,{"$f":"BOD!B537&\"\"","v":""}]
[null,{"$f":"BOD!B538&\"\"","v":""}]
[null,{"$f":"BOD!B539&\"\"","v":""}]
[null,{"$f":"BOD!B540&\"\"","v":""}]
[null,{"$f":"BOD!B541&\"\"","v":""}]
[null,{"$f":"BOD!B542&\"\"","v":""}]
[null,{"$f":"BOD!B543&\"\"","v":""}]
[null,{"$f":"BOD!B544&\"\"","v":""}]
[null,{"$f":"BOD!B545&\"\"","v":""}]
[null,{"$f":"BOD!B546&\"\"","v":""}]
[null,{"$f":"BOD!B547&\"\"","v":""}]
[null,{"$f":"BOD!B548&\"\"","v":""}]
[null,{"$f":"BOD!B549&\"\"","v":""}]
[null,{"$f":"BOD!B550&\"\"","v":""}]
[null,{"$f":"BOD!B551&\"\"","v":""}]
[null,{"$f":"BOD!B552&\"\"","v":""}]
[null,{"$f":"BOD!B553&\"\"","v":""}]
[null,{"$f":"BOD!B554&\"\"","v":""}]
[null,{"$f":"BOD!B555&\"\"","v":""}]
[null,{"$f":"BOD!B556&\"\"","v":""}]
[null,{"$f":"BOD!B557&\"\"","v":""}]
[null,{"$f":"BOD!B558&\"\"","v":""}]
[null,{"$f":"BOD!B559&\"\"","v":""}]
[null,{"$f":"BOD!B560&\"\"","v":""}]
[null,{"$f":"BOD!B561&\"\"","v":""}]
[null,{"$f":"BOD!B562&\"\"","v":""}]
[null,{"$f":"BOD!B563&\"\"","v":""}]
[null,{"$f":"BOD!B564&\"\"","v":""}]
[null,{"$f":"BOD!B565&\"\"","v":""}]
[null,{"$f":"BOD!B566&\"\"","v":""}]
[null,{"$f":"BOD!B567&\"\"","v":""}]
[null,{"$f":"BOD!B568&\"\"","v":""}]
[null,{"$f":"BOD!B569&\"\"","v":""}]
[null,{"$f":"BOD!B570&\"\"","v":""}]
[null,{"$f":"BOD!B571&\"\"","v":""}]
[null,{"$f":"BOD!B572&\"\"","v":""}]
[null,{"$f":"BOD!B573&\"\"","v":""}]
[null,{"$f":"BOD!B574&\"\"","v":""}]
[null,{"$f":"BOD!B575&\"\"","v":""}]
[null,{"$f":"BOD!B576&\"\"","v":""}]
[null,{"$f":"BOD!B577&\"\"","v":""}]
[null,{"$f":"BOD!B578&\"\"","v":""}]
[null,{"$f":"BOD!B579&\"\"","v":""}]
[null,{"$f":"BOD!B580&\"\"","v":""}]
[null,{"$f":"BOD!B581&\"\"","v":""}]
[null,{"$f":"BOD!B582&\"\"","v":""}]
[null,{"$f":"BOD!B583&\"\"","v":""}]
[null,{"$f":"BOD!B584&\"\"","v":""}]
[null,{"$f":"BOD!B585&\"\"","v":""}]
[null,{"$f":"BOD!B586&\"\"","v":""}]
[null,{"$f":"BOD!B587&\"\"","v":""}]
[null,{"$f":"BOD!B588&\"\"","v":""}]
[null,{"$f":"BOD!B589&\"\"","v":""}]
[null,{"$f":"BOD!B590&\"\"","v":""}]
[null,{"$f":"BOD!B591&\"\"","v":""}]
[null,{"$f":"BOD!B592&\"\"","v":""}]
[null,{"$f":"BOD!B593&\"\"","v":""}]
[null,{"$f":"BOD!B594&\"\"","v":""}]
[null,{"$f":"BOD!B595&\"\"","v":""}]
[null,{"$f":"BOD!B596&\"\"","v":""}]
[null,{"$f":"BOD!B597&\"\"","v":""}]
[null,{"$f":"BOD!B598&\"\"","v":""}]
[null,{"$f":"BOD!B599&\"\"","v":""}]
[null,{"$f":"BOD!B600&\"\"","v":""}]
[null,{"$f":"BOD!B601&\"\"","v":""}]
[null,{"$f":"BOD!B602&\"\"","v":""}]
[null,{"$f":"BOD!B603&\"\"","v":""}]
[null,{"$f":"BOD!B604&\"\"","v":""}]
[null,{"$f":"BOD!B605&\"\"","v":""}]
[null,{"$f":"BOD!B606&\"\"","v":""}]
[null,{"$f":"BOD!B607&\"\"","v":""}]
[null,{"$f":"BOD!B608&\"\"","v":""}]
[null,{"$f":"BOD!B609&\"\"","v":""}]
[null,{"$f":"BOD!B610&\"\"","v":""}]
[null,{"$f":"BOD!B611&\"\"","v":""}]
[null,{"$f":"BOD!B612&\"\"","v":""}]
[null,{"$f":"BOD!B613&\"\"","v":""}]
[null,{"$f":"BOD!B614&\"\"","v":""}]
[null,{"$f":"BOD!B615&\"\"","v":""}]
[null,{"$f":"BOD!B616&\"\"","v":""}]
[null,{"$f":"BOD!B617&\"\"","v":""}]
[null,{"$f":"BOD!B618&\"\"","v":""}]
[null,{"$f":"BOD!B619&\"\"","v":""}]
[null,{"$f":"BOD!B620&\"\"","v":""}]
[null,{"$f":"BOD!B621&\"\"","v":""}]
[null,{"$f":"BOD!B622&\"\"","v":""}]
[null,{"$f":"BOD!B623&\"\"","v":""}]
[null,{"$f":"BOD!B624&\"\"","v":""}]
[null,{"$f":"BOD!B625&\"\"","v":""}]
[null,{"$f":"BOD!B626&\"\"","v":""}]
[null,{"$f":"BOD!B627&\"\"","v":""}]
[null,{"$f":"BOD!B628&\"\"","v":""}]
[null,{"$f":"BOD!B629&\"\"","v":""}]
[null,{"$f":"BOD!B630&\"\"","v":""}]
[null,{"$f":"BOD!B631&\"\"","v":""}]
[null,{"$f":"BOD!B632&\"\"","v":""}]
[null,{"$f":"BOD!B633&\"\"","v":""}]
[null,{"$f":"BOD!B634&\"\"","v":""}]
[null,{"$f":"BOD!B635&\"\"","v":""}]
[null,{"$f":"BOD!B636&\"\"","v":""}]
[null,{"$f":"BOD!B637&\"\"","v":""}]
[null,{"$f":"BOD!B638&\"\"","v":""}]
[null,{"$f":"BOD!B639&\"\"","v":""}]
[null,{"$f":"BOD!B640&\"\"","v":""}]
[null,{"$f":"BOD!B641&\"\"","v":""}]

{"sheet":"Visual","index":3,"n_rows":400,"n_cols":15,"rows_kept":400,"cut":false,"hidden":false,"merged":[[10,6,10,12],[12,6,12,12],[2,1,2,2],[2,6,2,12],[4,6,4,12],[6,6,6,12],[8,6,8,12]]}
[]
[]
[null,"Visual Inspection",null,null,"Shade",null,"Clarity"]
[]
[null,null,null,null,"I",null,"Completely Clear"]
[]
[null,null,null,null,"II",null,"Mostly Clear"]
[]
[null,null,null,null,"III",null,"Unclear"]
[]
[null,null,null,null,"IV",null,"Mostly Dark"]
[]
[null,null,null,null,"V",null,"Completely Dark"]
[]
[]
[]
[null,"ID Num.","Type",null,"2010-03-31",null,"2010-06-14",null,"2011-07-01",null,"2011-10-25",null,"2012-08-14",null,"2016-06-23"]
[]
[null,{"$f":"BOD!B19&\"\"","v":"4008"},{"$f":"BOD!C19&\"\"","v":"Catch Basin"},null,"III",null,"III",null,"I",null,"I",null,"I",null,"I"]
[null,{"$f":"BOD!B20&\"\"","v":""},{"$f":"BOD!C20&\"\"","v":""}]
[null,{"$f":"BOD!B21&\"\"","v":"4009"},{"$f":"BOD!C21&\"\"","v":"Catch Basin"},null,"III",null,"III",null,"III",null,"II",null,"II",null,"IV"]
[null,{"$f":"BOD!B22&\"\"","v":""},{"$f":"BOD!C22&\"\"","v":""}]
[null,{"$f":"BOD!B23&\"\"","v":"4010"},{"$f":"BOD!C23&\"\"","v":"Catch Basin"},null,"III",null,"III",null,"II",null,"I",null,"II",null,"III"]
[null,{"$f":"BOD!B24&\"\"","v":""},{"$f":"BOD!C24&\"\"","v":""}]
[null,{"$f":"BOD!B25&\"\"","v":"4011"},{"$f":"BOD!C25&\"\"","v":"Catch Basin"},null,"III",null,"II",null,"I",null,"I",null,"I",null,"III"]
[null,{"$f":"BOD!B26&\"\"","v":""},{"$f":"BOD!C26&\"\"","v":""}]
[null,{"$f":"BOD!B27&\"\"","v":"4012"},{"$f":"BOD!C27&\"\"","v":"Catch Basin"},null,"III",null,"II",null,"II",null,"II",null,"II",null,"II"]
[null,{"$f":"BOD!B28&\"\"","v":""},{"$f":"BOD!C28&\"\"","v":""}]
[null,{"$f":"BOD!B29&\"\"","v":"4013"},{"$f":"BOD!C29&\"\"","v":"Catch Basin"}]
[null,{"$f":"BOD!B30&\"\"","v":""},{"$f":"BOD!C30&\"\"","v":""}]
[null,{"$f":"BOD!B31&\"\"","v":"4014 A"},{"$f":"BOD!C31&\"\"","v":"Oil/ Water Separator"}]
[null,{"$f":"BOD!B32&\"\"","v":""},{"$f":"BOD!C32&\"\"","v":""}]
[null,{"$f":"BOD!B33&\"\"","v":"4014 B"},{"$f":"BOD!C33&\"\"","v":"Oil/ Water Separator"}]
[null,{"$f":"BOD!B34&\"\"","v":""},{"$f":"BOD!C34&\"\"","v":""}]
[null,{"$f":"BOD!B35&\"\"","v":"4015 A"},{"$f":"BOD!C35&\"\"","v":"Oil/ Water Separator"},null,"III",null,"III",null,"II",null,"II",null,"II"]
[null,{"$f":"BOD!B36&\"\"","v":""},{"$f":"BOD!C36&\"\"","v":""}]
[null,{"$f":"BOD!B37&\"\"","v":"4015 B"},{"$f":"BOD!C37&\"\"","v":"Oil/ Water Separator"},null,"III",null,"III",null,"II",null,"II",null,"II",null,"I"]
[null,{"$f":"BOD!B38&\"\"","v":""},{"$f":"BOD!C38&\"\"","v":""}]
[null,{"$f":"BOD!B39&\"\"","v":"4016"},{"$f":"BOD!C39&\"\"","v":"Catch Basin"}]
[null,{"$f":"BOD!B40&\"\"","v":""},{"$f":"BOD!C40&\"\"","v":""}]
[null,{"$f":"BOD!B41&\"\"","v":"4017"},{"$f":"BOD!C41&\"\"","v":"Catch Basin"}]
[null,{"$f":"BOD!B42&\"\"","v":""},{"$f":"BOD!C42&\"\"","v":""}]
[null,{"$f":"BOD!B43&\"\"","v":"4018"},{"$f":"BOD!C43&\"\"","v":"Catch Basin"},null,null,null,null,null,null,null,"V",null,null,null,"IV"]
[null,{"$f":"BOD!B44&\"\"","v":""},{"$f":"BOD!C44&\"\"","v":""}]
[null,{"$f":"BOD!B45&\"\"","v":"4019"},{"$f":"BOD!C45&\"\"","v":"Catch Basin"},null,null,null,null,null,null,null,"IV",null,null,null,"III"]
[null,{"$f":"BOD!B46&\"\"","v":""},{"$f":"BOD!C46&\"\"","v":""}]
[null,{"$f":"BOD!B47&\"\"","v":"4020"},{"$f":"BOD!C47&\"\"","v":"Catch Basin"},null,null,null,null,null,null,null,null,null,null,null,"III"]
[null,{"$f":"BOD!B48&\"\"","v":""},{"$f":"BOD!C48&\"\"","v":""}]
[null,{"$f":"BOD!B49&\"\"","v":"4022"},{"$f":"BOD!C49&\"\"","v":"Catch Basin"},null,null,null,null,null,null,null,"V"]
[null,{"$f":"BOD!B50&\"\"","v":""},{"$f":"BOD!C50&\"\"","v":""}]
[null,{"$f":"BOD!B51&\"\"","v":"4023"},{"$f":"BOD!C51&\"\"","v":"Catch Basin"},null,"V",null,"IV",null,"III",null,"III",null,"III"]
[null,{"$f":"BOD!B52&\"\"","v":""},{"$f":"BOD!C52&\"\"","v":""}]
[null,{"$f":"BOD!B53&\"\"","v":"4024 A"},{"$f":"BOD!C53&\"\"","v":"Oil/ Water Separator"},null,"IV",null,"III",null,"II",null,"I",null,"II"]
[null,{"$f":"BOD!B54&\"\"","v":""},{"$f":"BOD!C54&\"\"","v":""}]
[null,{"$f":"BOD!B55&\"\"","v":"4024 B"},{"$f":"BOD!C55&\"\"","v":"Oil/ Water Separator"},null,"IV",null,"III",null,"II",null,"I",null,"II",null,"II"]
[null,{"$f":"BOD!B56&\"\"","v":""},{"$f":"BOD!C56&\"\"","v":""}]
[null,{"$f":"BOD!B57&\"\"","v":"4025"},{"$f":"BOD!C57&\"\"","v":"Catch Basin"},null,"II",null,"II",null,"I",null,"I",null,"I",null,"I"]
[null,{"$f":"BOD!B58&\"\"","v":""},{"$f":"BOD!C58&\"\"","v":""}]
[null,{"$f":"BOD!B59&\"\"","v":"4026"},{"$f":"BOD!C59&\"\"","v":"Catch Basin"}]
[null,{"$f":"BOD!B60&\"\"","v":""},{"$f":"BOD!C60&\"\"","v":""}]
[null,{"$f":"BOD!B61&\"\"","v":"4027 A"},{"$f":"BOD!C61&\"\"","v":"Oil/ Water Separator"},null,"II",null,"II",null,"I",null,"I",null,"I"]
[null,{"$f":"BOD!B62&\"\"","v":""},{"$f":"BOD!C62&\"\"","v":""}]
[null,{"$f":"BOD!B63&\"\"","v":"4027 B"},{"$f":"BOD!C63&\"\"","v":"Oil/ Water Separator"},null,"II",null,"II",null,"I",null,"I",null,"I"]
[null,{"$f":"BOD!B64&\"\"","v":""},{"$f":"BOD!C64&\"\"","v":""}]
[null,{"$f":"BOD!B65&\"\"","v":"4028"},{"$f":"BOD!C65&\"\"","v":"Catch Basin"},null,null,null,null,null,null,null,null,null,null,null,"I"]
[null,{"$f":"BOD!B66&\"\"","v":""},{"$f":"BOD!C66&\"\"","v":""}]
[null,{"$f":"BOD!B67&\"\"","v":"4029 A"},{"$f":"BOD!C67&\"\"","v":"Oil/ Water Separator"},null,"III",null,"III",null,"II",null,"I",null,"II",null,"I"]
[null,{"$f":"BOD!B68&\"\"","v":""},{"$f":"BOD!C68&\"\"","v":""}]
[null,{"$f":"BOD!B69&\"\"","v":"4029 B"},{"$f":"BOD!C69&\"\"","v":"Oil/ Water Separator"},null,"IV",null,"IV",null,"II",null,"I",null,"II"]
[null,{"$f":"BOD!B70&\"\"","v":""}]
[null,{"$f":"BOD!B71&\"\"","v":""}]
[null,{"$f":"BOD!B72&\"\"","v":""}]
[null,{"$f":"BOD!B73&\"\"","v":""}]
[null,{"$f":"BOD!B74&\"\"","v":""}]
[null,{"$f":"BOD!B75&\"\"","v":""}]
[null,{"$f":"BOD!B76&\"\"","v":""}]
[null,{"$f":"BOD!B77&\"\"","v":""}]
[null,{"$f":"BOD!B78&\"\"","v":""}]
[null,{"$f":"BOD!B79&\"\"","v":""}]
[null,{"$f":"BOD!B80&\"\"","v":""}]
[null,{"$f":"BOD!B81&\"\"","v":""}]
[null,{"$f":"BOD!B82&\"\"","v":""}]
[null,{"$f":"BOD!B83&\"\"","v":""}]
[null,{"$f":"BOD!B84&\"\"","v":""}]
[null,{"$f":"BOD!B85&\"\"","v":""}]
[null,{"$f":"BOD!B86&\"\"","v":""}]
[null,{"$f":"BOD!B87&\"\"","v":""}]
[null,{"$f":"BOD!B88&\"\"","v":""}]
[null,{"$f":"BOD!B89&\"\"","v":""}]
[null,{"$f":"BOD!B90&\"\"","v":""}]
[null,{"$f":"BOD!B91&\"\"","v":""}]
[null,{"$f":"BOD!B92&\"\"","v":""}]
[null,{"$f":"BOD!B93&\"\"","v":""}]
[null,{"$f":"BOD!B94&\"\"","v":""}]
[null,{"$f":"BOD!B95&\"\"","v":""}]
[null,{"$f":"BOD!B96&\"\"","v":""}]
[null,{"$f":"BOD!B97&\"\"","v":""}]
[null,{"$f":"BOD!B98&\"\"","v":""}]
[null,{"$f":"BOD!B99&\"\"","v":""}]
[null,{"$f":"BOD!B100&\"\"","v":""}]
[null,{"$f":"BOD!B101&\"\"","v":""}]
[null,{"$f":"BOD!B102&\"\"","v":""}]
[null,{"$f":"BOD!B103&\"\"","v":""}]
[null,{"$f":"BOD!B104&\"\"","v":""}]
[null,{"$f":"BOD!B105&\"\"","v":""}]
[null,{"$f":"BOD!B106&\"\"","v":""}]
[null,{"$f":"BOD!B107&\"\"","v":""}]
[null,{"$f":"BOD!B108&\"\"","v":""}]
[null,{"$f":"BOD!B109&\"\"","v":""}]
[null,{"$f":"BOD!B110&\"\"","v":""}]
[null,{"$f":"BOD!B111&\"\"","v":""}]
[null,{"$f":"BOD!B112&\"\"","v":""}]
[null,{"$f":"BOD!B113&\"\"","v":""}]
[null,{"$f":"BOD!B114&\"\"","v":""}]
[null,{"$f":"BOD!B115&\"\"","v":""}]
[null,{"$f":"BOD!B116&\"\"","v":""}]
[null,{"$f":"BOD!B117&\"\"","v":""}]
[null,{"$f":"BOD!B118&\"\"","v":""}]
[null,{"$f":"BOD!B119&\"\"","v":""}]
[null,{"$f":"BOD!B120&\"\"","v":""}]
[null,{"$f":"BOD!B121&\"\"","v":""}]
[null,{"$f":"BOD!B122&\"\"","v":""}]
[null,{"$f":"BOD!B123&\"\"","v":""}]
[null,{"$f":"BOD!B124&\"\"","v":""}]
[null,{"$f":"BOD!B125&\"\"","v":""}]
[null,{"$f":"BOD!B126&\"\"","v":""}]
[null,{"$f":"BOD!B127&\"\"","v":""}]
[null,{"$f":"BOD!B128&\"\"","v":""}]
[null,{"$f":"BOD!B129&\"\"","v":""}]
[null,{"$f":"BOD!B130&\"\"","v":""}]
[null,{"$f":"BOD!B131&\"\"","v":""}]
[null,{"$f":"BOD!B132&\"\"","v":""}]
[null,{"$f":"BOD!B133&\"\"","v":""}]
[null,{"$f":"BOD!B134&\"\"","v":""}]
[null,{"$f":"BOD!B135&\"\"","v":""}]
[null,{"$f":"BOD!B136&\"\"","v":""}]
[null,{"$f":"BOD!B137&\"\"","v":""}]
[null,{"$f":"BOD!B138&\"\"","v":""}]
[null,{"$f":"BOD!B139&\"\"","v":""}]
[null,{"$f":"BOD!B140&\"\"","v":""}]
[null,{"$f":"BOD!B141&\"\"","v":""}]
[null,{"$f":"BOD!B142&\"\"","v":""}]
[null,{"$f":"BOD!B143&\"\"","v":""}]
[null,{"$f":"BOD!B144&\"\"","v":""}]
[null,{"$f":"BOD!B145&\"\"","v":""}]
[null,{"$f":"BOD!B146&\"\"","v":""}]
[null,{"$f":"BOD!B147&\"\"","v":""}]
[null,{"$f":"BOD!B148&\"\"","v":""}]
[null,{"$f":"BOD!B149&\"\"","v":""}]
[null,{"$f":"BOD!B150&\"\"","v":""}]
[null,{"$f":"BOD!B151&\"\"","v":""}]
[null,{"$f":"BOD!B152&\"\"","v":""}]
[null,{"$f":"BOD!B153&\"\"","v":""}]
[null,{"$f":"BOD!B154&\"\"","v":""}]
[null,{"$f":"BOD!B155&\"\"","v":""}]
[null,{"$f":"BOD!B156&\"\"","v":""}]
[null,{"$f":"BOD!B157&\"\"","v":""}]
[null,{"$f":"BOD!B158&\"\"","v":""}]
[null,{"$f":"BOD!B159&\"\"","v":""}]
[null,{"$f":"BOD!B160&\"\"","v":""}]
[null,{"$f":"BOD!B161&\"\"","v":""}]
[null,{"$f":"BOD!B162&\"\"","v":""}]
[null,{"$f":"BOD!B163&\"\"","v":""}]
[null,{"$f":"BOD!B164&\"\"","v":""}]
[null,{"$f":"BOD!B165&\"\"","v":""}]
[null,{"$f":"BOD!B166&\"\"","v":""}]
[null,{"$f":"BOD!B167&\"\"","v":""}]
[null,{"$f":"BOD!B168&\"\"","v":""}]
[null,{"$f":"BOD!B169&\"\"","v":""}]
[null,{"$f":"BOD!B170&\"\"","v":""}]
[null,{"$f":"BOD!B171&\"\"","v":""}]
[null,{"$f":"BOD!B172&\"\"","v":""}]
[null,{"$f":"BOD!B173&\"\"","v":""}]
[null,{"$f":"BOD!B174&\"\"","v":""}]
[null,{"$f":"BOD!B175&\"\"","v":""}]
[null,{"$f":"BOD!B176&\"\"","v":""}]
[null,{"$f":"BOD!B177&\"\"","v":""}]
[null,{"$f":"BOD!B178&\"\"","v":""}]
[null,{"$f":"BOD!B179&\"\"","v":""}]
[null,{"$f":"BOD!B180&\"\"","v":""}]
[null,{"$f":"BOD!B181&\"\"","v":""}]
[null,{"$f":"BOD!B182&\"\"","v":""}]
[null,{"$f":"BOD!B183&\"\"","v":""}]
[null,{"$f":"BOD!B184&\"\"","v":""}]
[null,{"$f":"BOD!B185&\"\"","v":""}]
[null,{"$f":"BOD!B186&\"\"","v":""}]
[null,{"$f":"BOD!B187&\"\"","v":""}]
[null,{"$f":"BOD!B188&\"\"","v":""}]
[null,{"$f":"BOD!B189&\"\"","v":""}]
[null,{"$f":"BOD!B190&\"\"","v":""}]
[null,{"$f":"BOD!B191&\"\"","v":""}]
[null,{"$f":"BOD!B192&\"\"","v":""}]
[null,{"$f":"BOD!B193&\"\"","v":""}]
[null,{"$f":"BOD!B194&\"\"","v":""}]
[null,{"$f":"BOD!B195&\"\"","v":""}]
[null,{"$f":"BOD!B196&\"\"","v":""}]
[null,{"$f":"BOD!B197&\"\"","v":""}]
[null,{"$f":"BOD!B198&\"\"","v":""}]
[null,{"$f":"BOD!B199&\"\"","v":""}]
[null,{"$f":"BOD!B200&\"\"","v":""}]
[null,{"$f":"BOD!B201&\"\"","v":""}]
[null,{"$f":"BOD!B202&\"\"","v":""}]
[null,{"$f":"BOD!B203&\"\"","v":""}]
[null,{"$f":"BOD!B204&\"\"","v":""}]
[null,{"$f":"BOD!B205&\"\"","v":""}]
[null,{"$f":"BOD!B206&\"\"","v":""}]
[null,{"$f":"BOD!B207&\"\"","v":""}]
[null,{"$f":"BOD!B208&\"\"","v":""}]
[null,{"$f":"BOD!B209&\"\"","v":""}]
[null,{"$f":"BOD!B210&\"\"","v":""}]
[null,{"$f":"BOD!B211&\"\"","v":""}]
[null,{"$f":"BOD!B212&\"\"","v":""}]
[null,{"$f":"BOD!B213&\"\"","v":""}]
[null,{"$f":"BOD!B214&\"\"","v":""}]
[null,{"$f":"BOD!B215&\"\"","v":""}]
[null,{"$f":"BOD!B216&\"\"","v":""}]
[null,{"$f":"BOD!B217&\"\"","v":""}]
[null,{"$f":"BOD!B218&\"\"","v":""}]
[null,{"$f":"BOD!B219&\"\"","v":""}]
[null,{"$f":"BOD!B220&\"\"","v":""}]
[null,{"$f":"BOD!B221&\"\"","v":""}]
[null,{"$f":"BOD!B222&\"\"","v":""}]
[null,{"$f":"BOD!B223&\"\"","v":""}]
[null,{"$f":"BOD!B224&\"\"","v":""}]
[null,{"$f":"BOD!B225&\"\"","v":""}]
[null,{"$f":"BOD!B226&\"\"","v":""}]
[null,{"$f":"BOD!B227&\"\"","v":""}]
[null,{"$f":"BOD!B228&\"\"","v":""}]
[null,{"$f":"BOD!B229&\"\"","v":""}]
[null,{"$f":"BOD!B230&\"\"","v":""}]
[null,{"$f":"BOD!B231&\"\"","v":""}]
[null,{"$f":"BOD!B232&\"\"","v":""}]
[null,{"$f":"BOD!B233&\"\"","v":""}]
[null,{"$f":"BOD!B234&\"\"","v":""}]
[null,{"$f":"BOD!B235&\"\"","v":""}]
[null,{"$f":"BOD!B236&\"\"","v":""}]
[null,{"$f":"BOD!B237&\"\"","v":""}]
[null,{"$f":"BOD!B238&\"\"","v":""}]
[null,{"$f":"BOD!B239&\"\"","v":""}]
[null,{"$f":"BOD!B240&\"\"","v":""}]
[null,{"$f":"BOD!B241&\"\"","v":""}]
[null,{"$f":"BOD!B242&\"\"","v":""}]
[null,{"$f":"BOD!B243&\"\"","v":""}]
[null,{"$f":"BOD!B244&\"\"","v":""}]
[null,{"$f":"BOD!B245&\"\"","v":""}]
[null,{"$f":"BOD!B246&\"\"","v":""}]
[null,{"$f":"BOD!B247&\"\"","v":""}]
[null,{"$f":"BOD!B248&\"\"","v":""}]
[null,{"$f":"BOD!B249&\"\"","v":""}]
[null,{"$f":"BOD!B250&\"\"","v":""}]
[null,{"$f":"BOD!B251&\"\"","v":""}]
[null,{"$f":"BOD!B252&\"\"","v":""}]
[null,{"$f":"BOD!B253&\"\"","v":""}]
[null,{"$f":"BOD!B254&\"\"","v":""}]
[null,{"$f":"BOD!B255&\"\"","v":""}]
[null,{"$f":"BOD!B256&\"\"","v":""}]
[null,{"$f":"BOD!B257&\"\"","v":""}]
[null,{"$f":"BOD!B258&\"\"","v":""}]
[null,{"$f":"BOD!B259&\"\"","v":""}]
[null,{"$f":"BOD!B260&\"\"","v":""}]
[null,{"$f":"BOD!B261&\"\"","v":""}]
[null,{"$f":"BOD!B262&\"\"","v":""}]
[null,{"$f":"BOD!B263&\"\"","v":""}]
[null,{"$f":"BOD!B264&\"\"","v":""}]
[null,{"$f":"BOD!B265&\"\"","v":""}]
[null,{"$f":"BOD!B266&\"\"","v":""}]
[null,{"$f":"BOD!B267&\"\"","v":""}]
[null,{"$f":"BOD!B268&\"\"","v":""}]
[null,{"$f":"BOD!B269&\"\"","v":""}]
[null,{"$f":"BOD!B270&\"\"","v":""}]
[null,{"$f":"BOD!B271&\"\"","v":""}]
[null,{"$f":"BOD!B272&\"\"","v":""}]
[null,{"$f":"BOD!B273&\"\"","v":""}]
[null,{"$f":"BOD!B274&\"\"","v":""}]
[null,{"$f":"BOD!B275&\"\"","v":""}]
[null,{"$f":"BOD!B276&\"\"","v":""}]
[null,{"$f":"BOD!B277&\"\"","v":""}]
[null,{"$f":"BOD!B278&\"\"","v":""}]
[null,{"$f":"BOD!B279&\"\"","v":""}]
[null,{"$f":"BOD!B280&\"\"","v":""}]
[null,{"$f":"BOD!B281&\"\"","v":""}]
[null,{"$f":"BOD!B282&\"\"","v":""}]
[null,{"$f":"BOD!B283&\"\"","v":""}]
[null,{"$f":"BOD!B284&\"\"","v":""}]
[null,{"$f":"BOD!B285&\"\"","v":""}]
[null,{"$f":"BOD!B286&\"\"","v":""}]
[null,{"$f":"BOD!B287&\"\"","v":""}]
[null,{"$f":"BOD!B288&\"\"","v":""}]
[null,{"$f":"BOD!B289&\"\"","v":""}]
[null,{"$f":"BOD!B290&\"\"","v":""}]
[null,{"$f":"BOD!B291&\"\"","v":""}]
[null,{"$f":"BOD!B292&\"\"","v":""}]
[null,{"$f":"BOD!B293&\"\"","v":""}]
[null,{"$f":"BOD!B294&\"\"","v":""}]
[null,{"$f":"BOD!B295&\"\"","v":""}]
[null,{"$f":"BOD!B296&\"\"","v":""}]
[null,{"$f":"BOD!B297&\"\"","v":""}]
[null,{"$f":"BOD!B298&\"\"","v":""}]
[null,{"$f":"BOD!B299&\"\"","v":""}]
[null,{"$f":"BOD!B300&\"\"","v":""}]
[null,{"$f":"BOD!B301&\"\"","v":""}]
[null,{"$f":"BOD!B302&\"\"","v":""}]
[null,{"$f":"BOD!B303&\"\"","v":""}]
[null,{"$f":"BOD!B304&\"\"","v":""}]
[null,{"$f":"BOD!B305&\"\"","v":""}]
[null,{"$f":"BOD!B306&\"\"","v":""}]
[null,{"$f":"BOD!B307&\"\"","v":""}]
[null,{"$f":"BOD!B308&\"\"","v":""}]
[null,{"$f":"BOD!B309&\"\"","v":""}]
[null,{"$f":"BOD!B310&\"\"","v":""}]
[null,{"$f":"BOD!B311&\"\"","v":""}]
[null,{"$f":"BOD!B312&\"\"","v":""}]
[null,{"$f":"BOD!B313&\"\"","v":""}]
[null,{"$f":"BOD!B314&\"\"","v":""}]
[null,{"$f":"BOD!B315&\"\"","v":""}]
[null,{"$f":"BOD!B316&\"\"","v":""}]
[null,{"$f":"BOD!B317&\"\"","v":""}]
[null,{"$f":"BOD!B318&\"\"","v":""}]
[null,{"$f":"BOD!B319&\"\"","v":""}]
[null,{"$f":"BOD!B320&\"\"","v":""}]
[null,{"$f":"BOD!B321&\"\"","v":""}]
[null,{"$f":"BOD!B322&\"\"","v":""}]
[null,{"$f":"BOD!B323&\"\"","v":""}]
[null,{"$f":"BOD!B324&\"\"","v":""}]
[null,{"$f":"BOD!B325&\"\"","v":""}]
[null,{"$f":"BOD!B326&\"\"","v":""}]
[null,{"$f":"BOD!B327&\"\"","v":""}]
[null,{"$f":"BOD!B328&\"\"","v":""}]
[null,{"$f":"BOD!B329&\"\"","v":""}]
[null,{"$f":"BOD!B330&\"\"","v":""}]
[null,{"$f":"BOD!B331&\"\"","v":""}]
[null,{"$f":"BOD!B332&\"\"","v":""}]
[null,{"$f":"BOD!B333&\"\"","v":""}]
[null,{"$f":"BOD!B334&\"\"","v":""}]
[null,{"$f":"BOD!B335&\"\"","v":""}]
[null,{"$f":"BOD!B336&\"\"","v":""}]
[null,{"$f":"BOD!B337&\"\"","v":""}]
[null,{"$f":"BOD!B338&\"\"","v":""}]
[null,{"$f":"BOD!B339&\"\"","v":""}]
[null,{"$f":"BOD!B340&\"\"","v":""}]
[null,{"$f":"BOD!B341&\"\"","v":""}]
[null,{"$f":"BOD!B342&\"\"","v":""}]
[null,{"$f":"BOD!B343&\"\"","v":""}]
[null,{"$f":"BOD!B344&\"\"","v":""}]
[null,{"$f":"BOD!B345&\"\"","v":""}]
[null,{"$f":"BOD!B346&\"\"","v":""}]
[null,{"$f":"BOD!B347&\"\"","v":""}]
[null,{"$f":"BOD!B348&\"\"","v":""}]
[null,{"$f":"BOD!B349&\"\"","v":""}]
[null,{"$f":"BOD!B350&\"\"","v":""}]
[null,{"$f":"BOD!B351&\"\"","v":""}]
[null,{"$f":"BOD!B352&\"\"","v":""}]
[null,{"$f":"BOD!B353&\"\"","v":""}]
[null,{"$f":"BOD!B354&\"\"","v":""}]
[null,{"$f":"BOD!B355&\"\"","v":""}]
[null,{"$f":"BOD!B356&\"\"","v":""}]
[null,{"$f":"BOD!B357&\"\"","v":""}]
[null,{"$f":"BOD!B358&\"\"","v":""}]
[null,{"$f":"BOD!B359&\"\"","v":""}]
[null,{"$f":"BOD!B360&\"\"","v":""}]
[null,{"$f":"BOD!B361&\"\"","v":""}]
[null,{"$f":"BOD!B362&\"\"","v":""}]
[null,{"$f":"BOD!B363&\"\"","v":""}]
[null,{"$f":"BOD!B364&\"\"","v":""}]
[null,{"$f":"BOD!B365&\"\"","v":""}]
[null,{"$f":"BOD!B366&\"\"","v":""}]
[null,{"$f":"BOD!B367&\"\"","v":""}]
[null,{"$f":"BOD!B368&\"\"","v":""}]
[null,{"$f":"BOD!B369&\"\"","v":""}]
[null,{"$f":"BOD!B370&\"\"","v":""}]
[null,{"$f":"BOD!B371&\"\"","v":""}]
[null,{"$f":"BOD!B372&\"\"","v":""}]
[null,{"$f":"BOD!B373&\"\"","v":""}]
[null,{"$f":"BOD!B374&\"\"","v":""}]
[null,{"$f":"BOD!B375&\"\"","v":""}]
[null,{"$f":"BOD!B376&\"\"","v":""}]
[null,{"$f":"BOD!B377&\"\"","v":""}]
[null,{"$f":"BOD!B378&\"\"","v":""}]
[null,{"$f":"BOD!B379&\"\"","v":""}]
[null,{"$f":"BOD!B380&\"\"","v":""}]
[null,{"$f":"BOD!B381&\"\"","v":""}]
[null,{"$f":"BOD!B382&\"\"","v":""}]
[null,{"$f":"BOD!B383&\"\"","v":""}]
[null,{"$f":"BOD!B384&\"\"","v":""}]
[null,{"$f":"BOD!B385&\"\"","v":""}]
[null,{"$f":"BOD!B386&\"\"","v":""}]
[null,{"$f":"BOD!B387&\"\"","v":""}]
[null,{"$f":"BOD!B388&\"\"","v":""}]
[null,{"$f":"BOD!B389&\"\"","v":""}]
[null,{"$f":"BOD!B390&\"\"","v":""}]
[null,{"$f":"BOD!B391&\"\"","v":""}]
[null,{"$f":"BOD!B392&\"\"","v":""}]
[null,{"$f":"BOD!B393&\"\"","v":""}]
[null,{"$f":"BOD!B394&\"\"","v":""}]
[null,{"$f":"BOD!B395&\"\"","v":""}]
[null,{"$f":"BOD!B396&\"\"","v":""}]
[null,{"$f":"BOD!B397&\"\"","v":""}]
[null,{"$f":"BOD!B398&\"\"","v":""}]
[null,{"$f":"BOD!B399&\"\"","v":""}]
[null,{"$f":"BOD!B400&\"\"","v":""}]

{"sheet":"Catch Basins","index":4,"n_rows":54,"n_cols":14,"rows_kept":54,"cut":false,"hidden":false,"merged":[[0,0,0,3]]}
["Enter ID Numbers into yellow cells to populate spreadsheet",null,null,null,null,null,null,null,null,null,null,null,null,"Catch Basin"]
[null,null,null,null,null,null,null,null,null,null,null,null,null,"Oil/ Water Separator"]
[null,"ID Number","Type"]
[null,4008,"Catch Basin"]
[]
[null,4009,"Catch Basin"]
[]
[null,4010,"Catch Basin"]
[]
[null,4011,"Catch Basin"]
[]
[null,4012,"Catch Basin"]
[]
[null,4013,"Catch Basin"]
[]
[null,"4014 A","Oil/ Water Separator"]
[]
[null,"4014 B","Oil/ Water Separator"]
[]
[null,"4015 A","Oil/ Water Separator"]
[]
[null,"4015 B","Oil/ Water Separator"]
[]
[null,4016,"Catch Basin"]
[]
[null,4017,"Catch Basin"]
[]
[null,4018,"Catch Basin"]
[]
[null,4019,"Catch Basin"]
[]
[null,4020,"Catch Basin"]
[]
[null,4022,"Catch Basin"]
[]
[null,4023,"Catch Basin"]
[]
[null,"4024 A","Oil/ Water Separator"]
[]
[null,"4024 B","Oil/ Water Separator"]
[]
[null,4025,"Catch Basin"]
[]
[null,4026,"Catch Basin"]
[]
[null,"4027 A","Oil/ Water Separator"]
[]
[null,"4027 B","Oil/ Water Separator"]
[]
[null,4028,"Catch Basin"]
[]
[null,"4029 A","Oil/ Water Separator"]
[]
[null,"4029 B","Oil/ Water Separator"]

{"sheet":"Images","index":5,"n_rows":26,"n_cols":26,"rows_kept":26,"cut":false,"hidden":false,"merged":[]}
[null,null,null,null,null,null,null,null,null,null,null,null,null,null,null,null,null,null,null,null,null,null,null,null,null,{"$f":"BOD!B19&\"\"","v":"4008"}]
[null,null,null,null,null,null,null,null,null,null,null,null,null,null,null,null,null,null,null,null,null,null,null,null,null,{"$f":"BOD!B21&\"\"","v":"4009"}]
[null,null,null,null,null,null,null,null,null,null,null,null,null,null,null,null,null,null,null,null,null,null,null,null,null,{"$f":"BOD!B23&\"\"","v":"4010"}]
[null,null,null,null,null,null,null,null,null,null,null,null,null,null,null,null,null,null,null,null,null,null,null,null,null,{"$f":"BOD!B25&\"\"","v":"4011"}]
[null,null,null,null,null,null,null,null,null,null,null,null,null,null,null,null,null,null,null,null,null,null,null,null,null,{"$f":"BOD!B27&\"\"","v":"4012"}]
[null,null,null,null,null,null,null,null,null,null,null,null,null,null,null,null,null,null,null,null,null,null,null,null,null,{"$f":"BOD!B29&\"\"","v":"4013"}]
[null,null,null,null,null,null,null,null,null,null,null,null,null,null,null,null,null,null,null,null,null,null,null,null,null,{"$f":"BOD!B31&\"\"","v":"4014 A"}]
[null,null,null,null,null,null,null,null,null,null,null,null,null,null,null,null,null,null,null,null,null,null,null,null,null,{"$f":"BOD!B33&\"\"","v":"4014 B"}]
[null,null,null,null,null,null,null,null,null,null,null,null,null,null,null,null,null,null,null,null,null,null,null,null,null,{"$f":"BOD!B35&\"\"","v":"4015 A"}]
[null,null,null,null,null,null,null,null,null,null,null,null,null,null,null,null,null,null,null,null,null,null,null,null,null,{"$f":"BOD!B37&\"\"","v":"4015 B"}]
[null,null,null,null,null,null,null,null,null,null,null,null,null,null,null,null,null,null,null,null,null,null,null,null,null,{"$f":"BOD!B39&\"\"","v":"4016"}]
[null,null,null,null,null,null,null,null,null,null,null,null,null,null,null,null,null,null,null,null,null,null,null,null,null,{"$f":"BOD!B41&\"\"","v":"4017"}]
[null,null,null,null,null,null,null,null,null,null,null,null,null,null,null,null,null,null,null,null,null,null,null,null,null,{"$f":"BOD!B43&\"\"","v":"4018"}]
[null,null,null,null,null,null,null,null,null,null,null,null,null,null,null,null,null,null,null,null,null,null,null,null,null,{"$f":"BOD!B45&\"\"","v":"4019"}]
[null,null,null,null,null,null,null,null,null,null,null,null,null,null,null,null,null,null,null,null,null,null,null,null,null,{"$f":"BOD!B47&\"\"","v":"4020"}]
[null,null,null,null,null,null,null,null,null,null,null,null,null,null,null,null,null,null,null,null,null,null,null,null,null,{"$f":"BOD!B49&\"\"","v":"4022"}]
[null,null,null,null,null,null,null,null,null,null,null,null,null,null,null,null,null,null,null,null,null,null,null,null,null,{"$f":"BOD!B51&\"\"","v":"4023"}]
[null,null,null,null,null,null,null,null,null,null,null,null,null,null,null,null,null,null,null,null,null,null,null,null,null,{"$f":"BOD!B53&\"\"","v":"4024 A"}]
[null,null,null,null,null,null,null,null,null,null,null,null,null,null,null,null,null,null,null,null,null,null,null,null,null,{"$f":"BOD!B55&\"\"","v":"4024 B"}]
[null,null,null,null,null,null,null,null,null,null,null,null,null,null,null,null,null,null,null,null,null,null,null,null,null,{"$f":"BOD!B57&\"\"","v":"4025"}]
[null,null,null,null,null,null,null,null,null,null,null,null,null,null,null,null,null,null,null,null,null,null,null,null,null,{"$f":"BOD!B59&\"\"","v":"4026"}]
[null,null,null,null,null,null,null,null,null,null,null,null,null,null,null,null,null,null,null,null,null,null,null,null,null,{"$f":"BOD!B61&\"\"","v":"4027 A"}]
[null,null,null,null,null,null,null,null,null,null,null,null,null,null,null,null,null,null,null,null,null,null,null,null,null,{"$f":"BOD!B63&\"\"","v":"4027 B"}]
[null,null,null,null,null,null,null,null,null,null,null,null,null,null,null,null,null,null,null,null,null,null,null,null,null,{"$f":"BOD!B65&\"\"","v":"4028"}]
[null,null,null,null,null,null,null,null,null,null,null,null,null,null,null,null,null,null,null,null,null,null,null,null,null,{"$f":"BOD!B67&\"\"","v":"4029 A"}]
[null,null,null,null,null,null,null,null,null,null,null,null,null,null,null,null,null,null,null,null,null,null,null,null,null,{"$f":"BOD!B69&\"\"","v":"4029 B"}]

{"sheet":"User's Guide","index":6,"n_rows":16,"n_cols":4,"rows_kept":16,"cut":false,"hidden":false,"merged":[[0,1,0,3],[4,2,5,3]]}
[null,"Water Sample Tracker User's Guide"]
[]
[null,"This sheet gives information to the user about how this spreadsheet is to be used and how it works"]
[]
[null,"Reason for spreadsheet:","To track and record data for water samples, including, the BOD levels of those samples, the pH levels of those samples, and the visual clarity of those samples"]
[]
[]
[null,"What?","Sheets affected","Notes"]
[null,"Input ID numbers to track","Catch Basins","In this sheet the user inputs the ID numbers of the desired locations for water sampling into the yellow cells and indicates whether the ID number corresponds to a catch basin or an oil/water separator"]
[null,"Grey Cells in sheet Legend","BOD\npH","These cells may be changes to relect the size of grouping that the user desires. Once the \"Format Cells\" button is clicked, colors of cells in the data range will reflect the changes made by the user"]
[null,"Format Cells Button","BOD\npH\nVisual","By updating the legend at the top of each sheet the user may change the color of the cells and the ranges associated with them.  After updating the user clicks the format cells button to update the desired changes to the rest of the sheet."]
[null,"Add Sample Data Button","BOD\npH\nVisual","This button appears on all three sheets that are listed in the cell to the left and can be used from any one of them. The button will open a user form and allow the user to enter data into the user form and that data will then be added to the proper cells on the proper sheets when the user clicks add. If a sample date is entered by a user that was not previously entered into the spreadsheet a new column will be created for that date. If a date was previously entered, that data will be entered under the column of the date the user typed in"]
[null,"Generating Reports","Reports","The user selects the desired ID number in the list box on the left of the page. The user then uses the toggle buttons in the middle of the page to indicate the number of most recent sample data points for each category to be included in the reports. Note that the max number of sample data points for any ID number is all of the data points included in the spreadsheet for that ID number for that criteria. The max number of data points is automatically populated when the user selects an ID number from the list box. Then the user clicks on the \"Generate Reports\" button. The \"Generate Reports\" button automatically creates three graphs. One graph for BOD data, one graph for pH data, and one graph for visual data. Note, if there are less than two data points for any criteria a graph will not be created  "]
[null,"Hyperlinks","BOD\npH\nVisual","The dates along row 17 of the three sheets listed to the left can be clicked. The hyperlink will take the user to images of the water samples taken on that date. Note, some dates are not hyperlinks. That is because no images or reports were available. As the user enters more data into the sheet, the user should manually create hyperlinks to where the data is stored for quick access."]
[null,"Images Sheet","Images","The \"Images\" sheet contains useful images, including catch basin locations, a BOD chart, and a pH chart."]
[null,"Legend Colors","BOD\npH\nVisual","The user may select colors that the user prefers and select them as the background for the cells in the legend on each of the sheets listed to the left. Once new data is added using the \"Add Sample Data\" all cells on each of the sheets listed to the left will be updated to match the colors of the cells of their respective legend color cells. After data is added,  you may also change color and ranges associated with each level. Once changes are made the user clicks on the format cells button to update the table to the desired settings."]